BEGIN:VCALENDAR
PRODID:-//Microsoft Corporation//Outlook MIMEDIR//EN
VERSION:2.0
METHOD:PUBLISH
BEGIN:VEVENT
DTSTART:20260425T101500
DTEND:20260425T111500
DESCRIPTION:
LOCATION:Council Chambers, 7887 E. 60th Ave., Commerce City, CO 80022
SUMMARY:City Council Boards & Commissions Committee
CATEGORIES:MEETING
END:VEVENT
END:VCALENDAR
